BEGIN:VCALENDAR
METHOD:PUBLISH
PRODID:Data::ICal 0.13
VERSION:2.0
BEGIN:VEVENT
DESCRIPTION:
DTSTAMP:20260423T154631Z
DTSTART;TZID=America/New_York:20190322T000000
DTEND;TZID=America/New_York:20190323T000000
LOCATION:7518 Bales St Space A-120 Liberty Township\, OH 45069
SUMMARY:Arnez J
UID:163061-1553212800-1553299200
END:VEVENT
END:VCALENDAR
