BEGIN:VCALENDAR
METHOD:PUBLISH
PRODID:Data::ICal 0.13
VERSION:2.0
BEGIN:VEVENT
DESCRIPTION:
DTSTAMP:20260423T171246Z
DTSTART;TZID=America/New_York:20190301T000000
DTEND;TZID=America/New_York:20190303T000000
LOCATION:7518 Bales St Space A-120 Liberty Township\, OH 45069
SUMMARY:Lil Rel
UID:163058-1551398400-1551571200
END:VEVENT
END:VCALENDAR
