BEGIN:VCALENDAR
METHOD:PUBLISH
PRODID:Data::ICal 0.13
VERSION:2.0
BEGIN:VEVENT
DESCRIPTION:[caption id=&quot;attachment_1319941&quot; align=&quot;alignnone&quot; width=&quot;1000&quot;] Source: R1 Digital / Radio One Cincinnati[/caption]\n\nRadio One and Law Offices of Blake Maislin welcome the The Queens tour, featuring Gladys Knight, Chaka Khan, Patti LaBelle, and Stephanie Mills. Four legends, ONE stage - LIVE at Heritage Bank Center May 31st.\n\nFor your tickets, visit at Ticketmaster.com
DTSTAMP:20260423T154313Z
DTSTART;TZID=America/New_York:20250531T000000
DTEND;TZID=America/New_York:20250531T000000
LOCATION:Cincinnati\, OH
SUMMARY:The Queens LIVE in Concert: Chaka Khan, Patti Labelle, Gladys Knight, Stephanie Mills
UID:1319944-1748649600-1748649600
END:VEVENT
END:VCALENDAR
