BEGIN:VCALENDAR
METHOD:PUBLISH
PRODID:Data::ICal 0.13
VERSION:2.0
BEGIN:VEVENT
DESCRIPTION:
DTSTAMP:20260421T212935Z
DTSTART;TZID=America/New_York:20190214T000000
DTEND;TZID=America/New_York:20190214T000000
LOCATION:100 Broadway\, Cincinnati\, Ohio 45202
SUMMARY:THE VALENTINE&#8217;S LOVE JAM With Tyrese, Avant, Dru Hill, Mastodon, &amp; Next
UID:163067-1550102400-1550102400
END:VEVENT
END:VCALENDAR
